Package: HMMcopy Version: 1.49.0 Command: /home/biocbuild/bbs-3.21-bioc/R/bin/R CMD INSTALL HMMcopy StartedAt: 2025-02-09 15:02:58 -0500 (Sun, 09 Feb 2025) EndedAt: 2025-02-09 15:03:02 -0500 (Sun, 09 Feb 2025) EllapsedTime: 4.1 seconds RetCode: 0 Status: OK