Package: HMMcopy Version: 1.49.0 Command: chmod a+r HMMcopy -R && E:\biocbuild\bbs-3.21-bioc\R\bin\R.exe CMD build --keep-empty-dirs --no-resave-data HMMcopy StartedAt: 2025-02-09 19:16:02 -0500 (Sun, 09 Feb 2025) EndedAt: 2025-02-09 19:16:36 -0500 (Sun, 09 Feb 2025) EllapsedTime: 34.7 seconds RetCode: 0 Status: OK PackageFile: HMMcopy_1.49.0.tar.gz PackageFileSize: 1.247 MiB