Package: HMMcopy Version: 1.49.0 Command: E:\biocbuild\bbs-3.21-bioc\R\bin\R.exe CMD check --no-multiarch --install=check:HMMcopy.install-out.txt --library=E:\biocbuild\bbs-3.21-bioc\R\library --no-vignettes --timings HMMcopy_1.49.0.tar.gz StartedAt: 2025-02-10 01:58:58 -0500 (Mon, 10 Feb 2025) EndedAt: 2025-02-10 01:59:39 -0500 (Mon, 10 Feb 2025) EllapsedTime: 41.1 seconds RetCode: 0 Status: WARNINGS CheckDir: HMMcopy.Rcheck Warnings: 1