Package: HPiP Version: 1.13.0 Command: rm -rf HPiP.buildbin-libdir && mkdir HPiP.buildbin-libdir && /Users/biocbuild/BBS/utils/build-universal.sh HPiP_1.13.0.tar.gz /Library/Frameworks/R.framework/Resources/bin/R HPiP.buildbin-libdir StartedAt: 2025-02-09 22:17:35 -0500 (Sun, 09 Feb 2025) EndedAt: 2025-02-09 22:17:40 -0500 (Sun, 09 Feb 2025) EllapsedTime: 5.1 seconds RetCode: 0 Status: OK PackageFile: HPiP_1.13.0.tgz PackageFileSize: 4.316 MiB