Package: HPiP Version: 1.13.0 Command: /Library/Frameworks/R.framework/Resources/bin/R CMD check --install=check:HPiP.install-out.txt --library=/Library/Frameworks/R.framework/Resources/library --no-vignettes --timings HPiP_1.13.0.tar.gz StartedAt: 2025-02-09 19:39:48 -0500 (Sun, 09 Feb 2025) EndedAt: 2025-02-09 19:43:12 -0500 (Sun, 09 Feb 2025) EllapsedTime: 204.6 seconds RetCode: 0 Status: OK CheckDir: HPiP.Rcheck Warnings: 0