Package: HPiP Version: 1.13.0 Command: /home/biocbuild/R/R/bin/R CMD build --keep-empty-dirs --no-resave-data HPiP StartedAt: 2025-01-28 23:39:30 -0000 (Tue, 28 Jan 2025) EndedAt: 2025-01-28 23:50:06 -0000 (Tue, 28 Jan 2025) EllapsedTime: 635.4 seconds RetCode: 1 Status: ERROR PackageFile: None PackageFileSize: NA