Package: HPiP Version: 1.13.0 Command: /Library/Frameworks/R.framework/Resources/bin/R CMD build --keep-empty-dirs --no-resave-data HPiP StartedAt: 2025-02-09 17:06:38 -0500 (Sun, 09 Feb 2025) EndedAt: 2025-02-09 17:17:36 -0500 (Sun, 09 Feb 2025) EllapsedTime: 658.0 seconds RetCode: 0 Status: OK PackageFile: HPiP_1.13.0.tar.gz PackageFileSize: 4.566 MiB