Package: HPiP Version: 1.13.0 Command: /Library/Frameworks/R.framework/Resources/bin/R CMD INSTALL HPiP StartedAt: 2025-02-09 15:37:22 -0500 (Sun, 09 Feb 2025) EndedAt: 2025-02-09 15:37:39 -0500 (Sun, 09 Feb 2025) EllapsedTime: 17.1 seconds RetCode: 0 Status: OK