Package: HPiP Version: 1.13.0 Command: /home/biocbuild/bbs-3.21-bioc/R/bin/R CMD build --keep-empty-dirs --no-resave-data HPiP StartedAt: 2025-02-09 17:40:40 -0500 (Sun, 09 Feb 2025) EndedAt: 2025-02-09 17:50:31 -0500 (Sun, 09 Feb 2025) EllapsedTime: 591.8 seconds RetCode: 0 Status: OK PackageFile: HPiP_1.13.0.tar.gz PackageFileSize: 4.156 MiB