Package: HPiP Version: 1.13.0 Command: /home/biocbuild/bbs-3.21-bioc/R/bin/R CMD check --install=check:HPiP.install-out.txt --library=/home/biocbuild/bbs-3.21-bioc/R/site-library --timings HPiP_1.13.0.tar.gz StartedAt: 2025-02-12 23:13:46 -0500 (Wed, 12 Feb 2025) EndedAt: 2025-02-12 23:29:51 -0500 (Wed, 12 Feb 2025) EllapsedTime: 965.3 seconds RetCode: 0 Status: OK CheckDir: HPiP.Rcheck Warnings: 0