Package: HPiP Version: 1.13.0 Command: /home/biocbuild/bbs-3.21-bioc/R/bin/R CMD INSTALL HPiP StartedAt: 2025-02-09 15:10:04 -0500 (Sun, 09 Feb 2025) EndedAt: 2025-02-09 15:10:22 -0500 (Sun, 09 Feb 2025) EllapsedTime: 18.0 seconds RetCode: 0 Status: OK