Package: HPiP Version: 1.13.0 Command: rm -rf HPiP.buildbin-libdir && mkdir HPiP.buildbin-libdir && E:\biocbuild\bbs-3.21-bioc\R\bin\R.exe CMD INSTALL --build --library=HPiP.buildbin-libdir HPiP_1.13.0.tar.gz StartedAt: 2025-02-10 07:56:18 -0500 (Mon, 10 Feb 2025) EndedAt: 2025-02-10 07:56:58 -0500 (Mon, 10 Feb 2025) EllapsedTime: 40.1 seconds RetCode: 0 Status: OK PackageFile: HPiP_1.13.0.zip PackageFileSize: 2.358 MiB