Package: Harman Version: 1.35.0 Command: /Library/Frameworks/R.framework/Resources/bin/R CMD INSTALL Harman StartedAt: 2025-02-12 15:02:58 -0500 (Wed, 12 Feb 2025) EndedAt: 2025-02-12 15:03:04 -0500 (Wed, 12 Feb 2025) EllapsedTime: 6.4 seconds RetCode: 0 Status: OK