Package: Harman Version: 1.35.0 Command: rm -rf Harman.buildbin-libdir && mkdir Harman.buildbin-libdir && /Users/biocbuild/BBS/utils/build-universal.sh Harman_1.35.0.tar.gz /Library/Frameworks/R.framework/Resources/bin/R Harman.buildbin-libdir StartedAt: 2025-02-10 00:57:11 -0500 (Mon, 10 Feb 2025) EndedAt: 2025-02-10 00:57:29 -0500 (Mon, 10 Feb 2025) EllapsedTime: 18.3 seconds RetCode: 0 Status: OK PackageFile: Harman_1.35.0.tgz PackageFileSize: 2.176 MiB