Package: Harman Version: 1.35.0 Command: /Library/Frameworks/R.framework/Resources/bin/R CMD build --keep-empty-dirs --no-resave-data Harman StartedAt: 2025-02-04 16:58:08 -0500 (Tue, 04 Feb 2025) EndedAt: 2025-02-04 17:01:03 -0500 (Tue, 04 Feb 2025) EllapsedTime: 174.8 seconds RetCode: 0 Status: OK PackageFile: Harman_1.35.0.tar.gz PackageFileSize: 2.121 MiB