Package: Harman Version: 1.35.0 Command: rm -rf Harman.buildbin-libdir && mkdir Harman.buildbin-libdir && E:\biocbuild\bbs-3.21-bioc\R\bin\R.exe CMD INSTALL --build --library=Harman.buildbin-libdir Harman_1.35.0.tar.gz StartedAt: 2025-02-10 07:54:25 -0500 (Mon, 10 Feb 2025) EndedAt: 2025-02-10 07:54:43 -0500 (Mon, 10 Feb 2025) EllapsedTime: 17.2 seconds RetCode: 0 Status: OK PackageFile: Harman_1.35.0.zip PackageFileSize: 1.178 MiB