Package: Harman Version: 1.35.0 Command: E:\biocbuild\bbs-3.21-bioc\R\bin\R.exe CMD check --no-multiarch --install=check:Harman.install-out.txt --library=E:\biocbuild\bbs-3.21-bioc\R\library --no-vignettes --timings Harman_1.35.0.tar.gz StartedAt: 2025-02-13 02:01:34 -0500 (Thu, 13 Feb 2025) EndedAt: 2025-02-13 02:03:16 -0500 (Thu, 13 Feb 2025) EllapsedTime: 101.8 seconds RetCode: 0 Status: OK CheckDir: Harman.Rcheck Warnings: 0