Package: HarmonizR Version: 1.5.0 Command: rm -rf HarmonizR.buildbin-libdir && mkdir HarmonizR.buildbin-libdir && /Users/biocbuild/BBS/utils/build-universal.sh HarmonizR_1.5.0.tar.gz /Library/Frameworks/R.framework/Resources/bin/R HarmonizR.buildbin-libdir StartedAt: 2025-02-04 22:19:00 -0500 (Tue, 04 Feb 2025) EndedAt: 2025-02-04 22:19:02 -0500 (Tue, 04 Feb 2025) EllapsedTime: 2.1 seconds RetCode: 0 Status: OK PackageFile: HarmonizR_1.5.0.tgz PackageFileSize: 92.85 KiB