Package: HarmonizR Version: 1.5.0 Command: /Library/Frameworks/R.framework/Resources/bin/R CMD check --install=check:HarmonizR.install-out.txt --library=/Library/Frameworks/R.framework/Resources/library --no-vignettes --timings HarmonizR_1.5.0.tar.gz StartedAt: 2025-02-04 19:37:32 -0500 (Tue, 04 Feb 2025) EndedAt: 2025-02-04 19:37:55 -0500 (Tue, 04 Feb 2025) EllapsedTime: 22.2 seconds RetCode: 0 Status: OK CheckDir: HarmonizR.Rcheck Warnings: 0