Package: HarmonizR Version: 1.5.0 Command: rm -rf HarmonizR.buildbin-libdir && mkdir HarmonizR.buildbin-libdir && /Users/biocbuild/BBS/utils/build-universal.sh HarmonizR_1.5.0.tar.gz /Library/Frameworks/R.framework/Resources/bin/R HarmonizR.buildbin-libdir StartedAt: 2025-02-05 00:43:31 -0500 (Wed, 05 Feb 2025) EndedAt: 2025-02-05 00:43:37 -0500 (Wed, 05 Feb 2025) EllapsedTime: 5.8 seconds RetCode: 0 Status: OK PackageFile: HarmonizR_1.5.0.tgz PackageFileSize: 91.97 KiB