Package: HarmonizR Version: 1.5.0 Command: /Library/Frameworks/R.framework/Resources/bin/R CMD build --keep-empty-dirs --no-resave-data HarmonizR StartedAt: 2025-02-04 16:58:25 -0500 (Tue, 04 Feb 2025) EndedAt: 2025-02-04 16:58:44 -0500 (Tue, 04 Feb 2025) EllapsedTime: 18.3 seconds RetCode: 0 Status: OK PackageFile: HarmonizR_1.5.0.tar.gz PackageFileSize: 50.45 KiB