Package: HarmonizR Version: 1.5.0 Command: /Library/Frameworks/R.framework/Resources/bin/R CMD check --install=check:HarmonizR.install-out.txt --library=/Library/Frameworks/R.framework/Resources/library --no-vignettes --timings HarmonizR_1.5.0.tar.gz StartedAt: 2025-02-04 20:58:40 -0500 (Tue, 04 Feb 2025) EndedAt: 2025-02-04 20:59:47 -0500 (Tue, 04 Feb 2025) EllapsedTime: 66.2 seconds RetCode: 0 Status: OK CheckDir: HarmonizR.Rcheck Warnings: 0