Package: HarmonizR Version: 1.5.0 Command: /Library/Frameworks/R.framework/Resources/bin/R CMD INSTALL HarmonizR StartedAt: 2025-02-04 15:37:38 -0500 (Tue, 04 Feb 2025) EndedAt: 2025-02-04 15:37:42 -0500 (Tue, 04 Feb 2025) EllapsedTime: 3.8 seconds RetCode: 0 Status: OK