Package: HarmonizR Version: 1.5.0 Command: /home/biocbuild/bbs-3.21-bioc/R/bin/R CMD build --keep-empty-dirs --no-resave-data HarmonizR StartedAt: 2025-02-09 17:35:12 -0500 (Sun, 09 Feb 2025) EndedAt: 2025-02-09 17:35:27 -0500 (Sun, 09 Feb 2025) EllapsedTime: 15.0 seconds RetCode: 0 Status: OK PackageFile: HarmonizR_1.5.0.tar.gz PackageFileSize: 50.6 KiB