Package: HarmonizR Version: 1.5.0 Command: chmod a+r HarmonizR -R && E:\biocbuild\bbs-3.21-bioc\R\bin\R.exe CMD build --keep-empty-dirs --no-resave-data HarmonizR StartedAt: 2025-02-04 19:13:38 -0500 (Tue, 04 Feb 2025) EndedAt: 2025-02-04 19:14:04 -0500 (Tue, 04 Feb 2025) EllapsedTime: 25.7 seconds RetCode: 0 Status: OK PackageFile: HarmonizR_1.5.0.tar.gz PackageFileSize: 49.84 KiB