Package: HarmonizR Version: 1.5.0 Command: E:\biocbuild\bbs-3.21-bioc\R\bin\R.exe CMD INSTALL HarmonizR StartedAt: 2025-02-04 16:42:37 -0500 (Tue, 04 Feb 2025) EndedAt: 2025-02-04 16:42:43 -0500 (Tue, 04 Feb 2025) EllapsedTime: 5.8 seconds RetCode: 0 Status: OK