Package: Harshlight Version: 1.79.0 Command: /Library/Frameworks/R.framework/Resources/bin/R CMD check --install=check:Harshlight.install-out.txt --library=/Library/Frameworks/R.framework/Resources/library --no-vignettes --timings Harshlight_1.79.0.tar.gz StartedAt: 2025-02-04 19:37:41 -0500 (Tue, 04 Feb 2025) EndedAt: 2025-02-04 19:38:13 -0500 (Tue, 04 Feb 2025) EllapsedTime: 32.4 seconds RetCode: 0 Status: WARNINGS CheckDir: Harshlight.Rcheck Warnings: 1