Package: Harshlight Version: 1.79.0 Command: rm -rf Harshlight.buildbin-libdir && mkdir Harshlight.buildbin-libdir && /Users/biocbuild/BBS/utils/build-universal.sh Harshlight_1.79.0.tar.gz /Library/Frameworks/R.framework/Resources/bin/R Harshlight.buildbin-libdir StartedAt: 2025-02-10 00:57:16 -0500 (Mon, 10 Feb 2025) EndedAt: 2025-02-10 00:57:37 -0500 (Mon, 10 Feb 2025) EllapsedTime: 21.7 seconds RetCode: 0 Status: OK PackageFile: Harshlight_1.79.0.tgz PackageFileSize: 307.7 KiB