Package: Harshlight Version: 1.79.0 Command: /home/biocbuild/bbs-3.21-bioc/R/bin/R CMD INSTALL Harshlight StartedAt: 2025-02-09 15:15:30 -0500 (Sun, 09 Feb 2025) EndedAt: 2025-02-09 15:15:41 -0500 (Sun, 09 Feb 2025) EllapsedTime: 11.7 seconds RetCode: 0 Status: OK