Package: Harshlight Version: 1.79.0 Command: chmod a+r Harshlight -R && E:\biocbuild\bbs-3.21-bioc\R\bin\R.exe CMD build --keep-empty-dirs --no-resave-data Harshlight StartedAt: 2025-02-04 19:13:44 -0500 (Tue, 04 Feb 2025) EndedAt: 2025-02-04 19:14:17 -0500 (Tue, 04 Feb 2025) EllapsedTime: 32.7 seconds RetCode: 0 Status: OK PackageFile: Harshlight_1.79.0.tar.gz PackageFileSize: 174.1 KiB