Package: Heatplus Version: 3.15.0 Command: rm -rf Heatplus.buildbin-libdir && mkdir Heatplus.buildbin-libdir && /Users/biocbuild/BBS/utils/build-universal.sh Heatplus_3.15.0.tar.gz /Library/Frameworks/R.framework/Resources/bin/R Heatplus.buildbin-libdir StartedAt: 2025-02-04 22:19:02 -0500 (Tue, 04 Feb 2025) EndedAt: 2025-02-04 22:19:04 -0500 (Tue, 04 Feb 2025) EllapsedTime: 2.0 seconds RetCode: 0 Status: OK PackageFile: Heatplus_3.15.0.tgz PackageFileSize: 1.27 MiB