Package: Heatplus Version: 3.15.0 Command: /Library/Frameworks/R.framework/Resources/bin/R CMD INSTALL Heatplus StartedAt: 2025-02-09 15:01:18 -0500 (Sun, 09 Feb 2025) EndedAt: 2025-02-09 15:01:20 -0500 (Sun, 09 Feb 2025) EllapsedTime: 1.2 seconds RetCode: 0 Status: OK