Package: Heatplus Version: 3.15.0 Command: /home/biocbuild/R/R/bin/R CMD build --keep-empty-dirs --no-resave-data Heatplus StartedAt: 2025-01-28 23:32:47 -0000 (Tue, 28 Jan 2025) EndedAt: 2025-01-28 23:33:06 -0000 (Tue, 28 Jan 2025) EllapsedTime: 19.0 seconds RetCode: 0 Status: OK PackageFile: Heatplus_3.15.0.tar.gz PackageFileSize: 1.236 MiB