Package: Heatplus Version: 3.15.0 Command: rm -rf Heatplus.buildbin-libdir && mkdir Heatplus.buildbin-libdir && /Users/biocbuild/BBS/utils/build-universal.sh Heatplus_3.15.0.tar.gz /Library/Frameworks/R.framework/Resources/bin/R Heatplus.buildbin-libdir StartedAt: 2025-02-05 00:43:37 -0500 (Wed, 05 Feb 2025) EndedAt: 2025-02-05 00:43:44 -0500 (Wed, 05 Feb 2025) EllapsedTime: 6.9 seconds RetCode: 0 Status: OK PackageFile: Heatplus_3.15.0.tgz PackageFileSize: 1.268 MiB