Package: Heatplus Version: 3.15.0 Command: /Library/Frameworks/R.framework/Resources/bin/R CMD check --install=check:Heatplus.install-out.txt --library=/Library/Frameworks/R.framework/Resources/library --no-vignettes --timings Heatplus_3.15.0.tar.gz StartedAt: 2025-02-04 20:59:07 -0500 (Tue, 04 Feb 2025) EndedAt: 2025-02-04 20:59:38 -0500 (Tue, 04 Feb 2025) EllapsedTime: 31.0 seconds RetCode: 0 Status: OK CheckDir: Heatplus.Rcheck Warnings: 0