Package: Heatplus Version: 3.15.0 Command: /Library/Frameworks/R.framework/Resources/bin/R CMD INSTALL Heatplus StartedAt: 2025-02-04 15:04:03 -0500 (Tue, 04 Feb 2025) EndedAt: 2025-02-04 15:04:42 -0500 (Tue, 04 Feb 2025) EllapsedTime: 38.8 seconds RetCode: 0 Status: OK