Package: Heatplus Version: 3.15.0 Command: /home/biocbuild/bbs-3.21-bioc/R/bin/R CMD build --keep-empty-dirs --no-resave-data Heatplus StartedAt: 2025-02-04 17:34:15 -0500 (Tue, 04 Feb 2025) EndedAt: 2025-02-04 17:34:31 -0500 (Tue, 04 Feb 2025) EllapsedTime: 16.0 seconds RetCode: 0 Status: OK PackageFile: Heatplus_3.15.0.tar.gz PackageFileSize: 1.183 MiB