Package: Heatplus Version: 3.15.0 Command: /home/biocbuild/bbs-3.21-bioc/R/bin/R CMD check --install=check:Heatplus.install-out.txt --library=/home/biocbuild/bbs-3.21-bioc/R/site-library --timings Heatplus_3.15.0.tar.gz StartedAt: 2025-02-04 23:02:36 -0500 (Tue, 04 Feb 2025) EndedAt: 2025-02-04 23:03:07 -0500 (Tue, 04 Feb 2025) EllapsedTime: 31.0 seconds RetCode: 0 Status: OK CheckDir: Heatplus.Rcheck Warnings: 0