Package: Heatplus Version: 3.15.0 Command: rm -rf Heatplus.buildbin-libdir && mkdir Heatplus.buildbin-libdir && E:\biocbuild\bbs-3.21-bioc\R\bin\R.exe CMD INSTALL --build --library=Heatplus.buildbin-libdir Heatplus_3.15.0.tar.gz StartedAt: 2025-02-10 07:54:44 -0500 (Mon, 10 Feb 2025) EndedAt: 2025-02-10 07:55:04 -0500 (Mon, 10 Feb 2025) EllapsedTime: 19.6 seconds RetCode: 0 Status: OK PackageFile: Heatplus_3.15.0.zip PackageFileSize: 951.3 KiB