Package: Heatplus Version: 3.15.0 Command: chmod a+r Heatplus -R && E:\biocbuild\bbs-3.21-bioc\R\bin\R.exe CMD build --keep-empty-dirs --no-resave-data Heatplus StartedAt: 2025-02-09 19:11:53 -0500 (Sun, 09 Feb 2025) EndedAt: 2025-02-09 19:12:30 -0500 (Sun, 09 Feb 2025) EllapsedTime: 36.7 seconds RetCode: 0 Status: OK PackageFile: Heatplus_3.15.0.tar.gz PackageFileSize: 862.6 KiB