Package: Heatplus Version: 3.15.0 Command: E:\biocbuild\bbs-3.21-bioc\R\bin\R.exe CMD INSTALL Heatplus StartedAt: 2025-02-09 15:19:56 -0500 (Sun, 09 Feb 2025) EndedAt: 2025-02-09 15:20:13 -0500 (Sun, 09 Feb 2025) EllapsedTime: 17.1 seconds RetCode: 0 Status: OK