Package: HelloRanges Version: 1.33.0 Maintainer: Michael Lawrence MaintainerEmail: michafla at gene.com git_url: https://git.bioconductor.org/packages/HelloRanges git_branch: devel git_last_commit: ee9547e git_last_commit_date: 2024-10-29 10:15:09 -0500 (Tue, 29 Oct 2024)