Package: HelloRanges Version: 1.33.0 Command: /Library/Frameworks/R.framework/Resources/bin/R CMD check --install=check:HelloRanges.install-out.txt --library=/Library/Frameworks/R.framework/Resources/library --no-vignettes --timings HelloRanges_1.33.0.tar.gz StartedAt: 2025-02-03 20:13:16 -0500 (Mon, 03 Feb 2025) EndedAt: 2025-02-03 20:15:12 -0500 (Mon, 03 Feb 2025) EllapsedTime: 116.4 seconds RetCode: 0 Status: OK CheckDir: HelloRanges.Rcheck Warnings: 0