Package: HelloRanges Version: 1.33.0 Command: /home/biocbuild/R/R/bin/R CMD build --keep-empty-dirs --no-resave-data HelloRanges StartedAt: 2025-01-28 23:32:48 -0000 (Tue, 28 Jan 2025) EndedAt: 2025-01-28 23:38:34 -0000 (Tue, 28 Jan 2025) EllapsedTime: 346.1 seconds RetCode: 0 Status: OK PackageFile: HelloRanges_1.33.0.tar.gz PackageFileSize: 942.7 KiB