Package: HelloRanges Version: 1.33.0 Command: /home/biocbuild/R/R/bin/R CMD INSTALL HelloRanges StartedAt: 2025-01-29 19:56:48 -0000 (Wed, 29 Jan 2025) EndedAt: 2025-01-29 19:57:46 -0000 (Wed, 29 Jan 2025) EllapsedTime: 57.4 seconds RetCode: 0 Status: OK