Package: HelloRanges Version: 1.33.0 Command: /home/biocbuild/bbs-3.21-bioc/R/bin/R CMD build --keep-empty-dirs --no-resave-data HelloRanges StartedAt: 2025-02-03 17:44:55 -0500 (Mon, 03 Feb 2025) EndedAt: 2025-02-03 17:48:49 -0500 (Mon, 03 Feb 2025) EllapsedTime: 234.2 seconds RetCode: 0 Status: OK PackageFile: HelloRanges_1.33.0.tar.gz PackageFileSize: 951.4 KiB