Package: HelloRanges Version: 1.33.0 Command: /home/biocbuild/bbs-3.21-bioc/R/bin/R CMD INSTALL HelloRanges StartedAt: 2025-02-03 15:48:08 -0500 (Mon, 03 Feb 2025) EndedAt: 2025-02-03 15:48:50 -0500 (Mon, 03 Feb 2025) EllapsedTime: 41.5 seconds RetCode: 0 Status: OK