Package: HelloRanges Version: 1.33.0 Command: chmod a+r HelloRanges -R && E:\biocbuild\bbs-3.21-bioc\R\bin\R.exe CMD build --keep-empty-dirs --no-resave-data HelloRanges StartedAt: 2025-02-03 19:24:13 -0500 (Mon, 03 Feb 2025) EndedAt: 2025-02-03 19:48:57 -0500 (Mon, 03 Feb 2025) EllapsedTime: 1483.6 seconds RetCode: 0 Status: OK PackageFile: HelloRanges_1.33.0.tar.gz PackageFileSize: 953 KiB