Package: HelloRanges Version: 1.33.0 Command: E:\biocbuild\bbs-3.21-bioc\R\bin\R.exe CMD check --no-multiarch --install=check:HelloRanges.install-out.txt --library=E:\biocbuild\bbs-3.21-bioc\R\library --no-vignettes --timings HelloRanges_1.33.0.tar.gz StartedAt: 2025-02-10 01:52:07 -0500 (Mon, 10 Feb 2025) EndedAt: 2025-02-10 01:58:22 -0500 (Mon, 10 Feb 2025) EllapsedTime: 374.9 seconds RetCode: 0 Status: OK CheckDir: HelloRanges.Rcheck Warnings: 0