Package: HiCBricks Version: 1.25.0 Command: /Library/Frameworks/R.framework/Resources/bin/R CMD INSTALL HiCBricks StartedAt: 2025-02-04 15:13:05 -0500 (Tue, 04 Feb 2025) EndedAt: 2025-02-04 15:13:11 -0500 (Tue, 04 Feb 2025) EllapsedTime: 6.7 seconds RetCode: 0 Status: OK